BEGIN:VCALENDAR
VERSION:2.0
PRODID:-//Schamanischer Seelenpfad - by Evi Glück - ECPv6.15.17//NONSGML v1.0//EN
CALSCALE:GREGORIAN
METHOD:PUBLISH
X-ORIGINAL-URL:https://eviglueck.de
X-WR-CALDESC:Veranstaltungen für Schamanischer Seelenpfad - by Evi Glück
REFRESH-INTERVAL;VALUE=DURATION:PT1H
X-Robots-Tag:noindex
X-PUBLISHED-TTL:PT1H
BEGIN:VTIMEZONE
TZID:Europe/Berlin
BEGIN:DAYLIGHT
TZOFFSETFROM:+0100
TZOFFSETTO:+0200
TZNAME:CEST
DTSTART:20240331T010000
END:DAYLIGHT
BEGIN:STANDARD
TZOFFSETFROM:+0200
TZOFFSETTO:+0100
TZNAME:CET
DTSTART:20241027T010000
END:STANDARD
BEGIN:DAYLIGHT
TZOFFSETFROM:+0100
TZOFFSETTO:+0200
TZNAME:CEST
DTSTART:20250330T010000
END:DAYLIGHT
BEGIN:STANDARD
TZOFFSETFROM:+0200
TZOFFSETTO:+0100
TZNAME:CET
DTSTART:20251026T010000
END:STANDARD
BEGIN:DAYLIGHT
TZOFFSETFROM:+0100
TZOFFSETTO:+0200
TZNAME:CEST
DTSTART:20260329T010000
END:DAYLIGHT
BEGIN:STANDARD
TZOFFSETFROM:+0200
TZOFFSETTO:+0100
TZNAME:CET
DTSTART:20261025T010000
END:STANDARD
END:VTIMEZONE
BEGIN:VEVENT
DTSTART;TZID=Europe/Berlin:20250702T080000
DTEND;TZID=Europe/Berlin:20250702T170000
DTSTAMP:20260424T185206
CREATED:20250702T192812Z
LAST-MODIFIED:20250702T192812Z
UID:5145-1751443200-1751475600@eviglueck.de
SUMMARY:Entfache deine Dankbarkeit im Rahmen der Jahreskreisfeste
DESCRIPTION:Die Kraft der Dankbarkeit ist eine faszinierende Sache!\nDie grundlegende Dankbarkeit hat tiefgreifende Auswirkungen auf unser Wohlbefinden\, unsere zwischenmenschlichen Beziehungen und sogar auf unsere körperliche Gesundheit.\nZunächst einmal hilft Dankbarkeit dabei\, unsere Perspektive zu verändern. Indem wir uns auf das konzentrieren\, wofür wir dankbar sind\, lenken wir unsere Aufmerksamkeit weg von dem\, was uns fehlt oder was uns stört. Das kann dazu beitragen\, negative Gedankenmuster zu durchbrechen und unser allgemeines Wohlbefinden zu verbessern.\nDarüber hinaus stärkt Dankbarkeit unsere zwischenmenschlichen Beziehungen. Wenn wir unseren Dank gegenüber anderen ausdrücken\, fühlen sich diese wertgeschätzt und verbunden. Dies kann zu einer positiven Spirale führen\, in der sich beide Seiten gegenseitig unterstützen und ermutigen.\nAuch auf unsere körperliche Gesundheit kann Dankbarkeit positive Auswirkungen haben. Studien haben gezeigt\, dass dankbare Menschen tendenziell weniger gestresst sind und ein stärkeres Immunsystem haben. Sie neigen auch dazu\, besser zu schlafen und weniger körperliche Beschwerden zu haben.\nInsgesamt ist die Kraft der Dankbarkeit enorm. Indem wir uns bewusst darauf konzentrieren\, wofür wir dankbar sind\, können wir unser Leben reicher und erfüllter gestalten. Es ist wie eine Superkraft\, die uns hilft\, die Herausforderungen des Lebens mit einer positiven Einstellung zu meistern. \n\n\n“Entfache deine Dankbarkeit: Strategien zur Bewältigung von Stress und Negativität”\nTermin: 13. September 2025\nZeit: 9:00 bis 16:30 Uhr\nKreuzstr. 12 94424 Arnstorf – Mariakirchen\nSeminarpreis incl. Verpflegung: 139 Euro\nFrühbucher bis 25. August zahlen 120 Euro.. Anmeldeschluss ist am 1. September.  \nLiebe Freunde des positiven Wandels\, es ist Zeit für eine Reise zu mehr Dankbarkeit und innerer Ruhe!\nIch möchte euch herzlich zu meinem inspirierenden Workshop “Entfache deine Dankbarkeit” einladen\, der euch dabei unterstützt\, die transformierende Kraft der Dankbarkeit zu entdecken und euer Leben positiv zu bereichern. \nÜber den Workshop: In diesem interaktiven Tagesworkshop werden wir gemeinsam erkunden\, wie Dankbarkeit unsere Lebensqualität verbessern kann.\nDurch praktische Übungen\, geführte Meditationen und inspirierende Gespräche werden wir lernen\, wie wir Dankbarkeit als Werkzeug zur Bewältigung von Stress und Negativität nutzen können.\nLasst uns gemeinsam einen Raum der Achtsamkeit und des persönlichen Wachstums schaffen. \nThemen und Aktivitäten: \n\nEinführung in die Kraft der Dankbarkeit und ihre Auswirkungen auf das Wohlbefinden\nPraktische Übungen zur Steigerung der Dankbarkeit im Alltag\nMeditationen zur Förderung von Dankbarkeit und innerer Ruhe\nErfahrungsaustausch und Reflexion in meinem geschützten Raum in einer unterstützenden Gemeinschaft\nWir werden uns auch in der Natur aufhalten und uns die Kraft des Waldes vertraut machen\n\nFür wen ist der Workshop geeignet? Dieser Workshop ist für alle gedacht\, die auf der Suche nach mehr innerem Frieden\, Gelassenheit und positiven Veränderungen in ihrem Leben sind. Egal\, ob ihr euch bereits mit Dankbarkeit beschäftigt habt oder ganz neu in diesem Bereich seid\, ihr seid herzlich eingeladen\, Teil unserer Dankbarkeitsgemeinschaft zu werden. \nAnmeldung: Die Teilnehmerzahl ist begrenzt. Sichere dir zeitig deinen Platz\, indem du dich bis zum 1. September per E-Mail an mail@eviglueck.de anmeldest. \nLasst uns gemeinsam den Weg zu mehr Dankbarkeit und innerer Erfüllung beschreiten. Ich freue mich darauf\, diesen inspirierenden Tag mit euch zu verbringen! \nHerzliche Grüße von Evi
URL:https://eviglueck.de/veranstaltung/entfache-deine-dankbarkeit-im-rahmen-der-jahreskreisfeste
END:VEVENT
BEGIN:VEVENT
DTSTART;TZID=Europe/Berlin:20250718T093000
DTEND;TZID=Europe/Berlin:20250719T170000
DTSTAMP:20260424T185206
CREATED:20241015T191923Z
LAST-MODIFIED:20250222T163434Z
UID:4416-1752831000-1752944400@eviglueck.de
SUMMARY:Keltische Pfade: Schamanische Wege zu den Wurzeln Teil 3
DESCRIPTION:  \n\n\n\nDiese Kursreihe ist ein in sich geschlossener Kreis. 
URL:https://eviglueck.de/veranstaltung/keltische-pfade-schamanische-wege-zu-den-wurzeln-teil-3
LOCATION:Mariakirchen
CATEGORIES:Ausbildung
ORGANIZER;CN="Evi Gl%C3%BCck":MAILTO:mail@eviglueck.de
END:VEVENT
END:VCALENDAR