BEGIN:VCALENDAR
VERSION:2.0
PRODID:-//Schamanischer Seelenpfad - by Evi Glück - ECPv6.15.17//NONSGML v1.0//EN
CALSCALE:GREGORIAN
METHOD:PUBLISH
X-ORIGINAL-URL:https://eviglueck.de
X-WR-CALDESC:Veranstaltungen für Schamanischer Seelenpfad - by Evi Glück
REFRESH-INTERVAL;VALUE=DURATION:PT1H
X-Robots-Tag:noindex
X-PUBLISHED-TTL:PT1H
BEGIN:VTIMEZONE
TZID:Europe/Berlin
BEGIN:DAYLIGHT
TZOFFSETFROM:+0100
TZOFFSETTO:+0200
TZNAME:CEST
DTSTART:20240331T010000
END:DAYLIGHT
BEGIN:STANDARD
TZOFFSETFROM:+0200
TZOFFSETTO:+0100
TZNAME:CET
DTSTART:20241027T010000
END:STANDARD
BEGIN:DAYLIGHT
TZOFFSETFROM:+0100
TZOFFSETTO:+0200
TZNAME:CEST
DTSTART:20250330T010000
END:DAYLIGHT
BEGIN:STANDARD
TZOFFSETFROM:+0200
TZOFFSETTO:+0100
TZNAME:CET
DTSTART:20251026T010000
END:STANDARD
BEGIN:DAYLIGHT
TZOFFSETFROM:+0100
TZOFFSETTO:+0200
TZNAME:CEST
DTSTART:20260329T010000
END:DAYLIGHT
BEGIN:STANDARD
TZOFFSETFROM:+0200
TZOFFSETTO:+0100
TZNAME:CET
DTSTART:20261025T010000
END:STANDARD
END:VTIMEZONE
BEGIN:VEVENT
DTSTART;TZID=Europe/Berlin:20251101T180000
DTEND;TZID=Europe/Berlin:20251101T213000
DTSTAMP:20260424T133423
CREATED:20250925T094417Z
LAST-MODIFIED:20250925T094417Z
UID:5221-1762020000-1762032600@eviglueck.de
SUMMARY:Jahreskreisfest Samhain
DESCRIPTION:Mit Samhain schließt sich der Kreis des Jahres – und ein neuer beginnt.\nEs ist die Zeit zwischen den Welten: Abschied und Neubeginn zugleich.\nWir ehren unsere Ahnen\, lassen Altes los und öffnen uns für die Wandlung. \nSamhain ist die Nacht der Schwelle – wenn das Alte stirbt und das Neue geboren wird. \nDie Tore zur Anderswelt stehen weit offen\, wir gedenken unserer Ahnen und empfangen ihre Weisheit.\nIn dieser besonderen Übergangszeit schließen wir den Kreis und treten bewusst in ein neues Werden. Die Novemberqualitäten führen uns in die Tiefe: Rückzug\, das Gedenken an unsere Ahnen\, das Loslassen des Vergangenen\, Abschied und Befreiung – und schließlich Umbruch und Neuorientierung.\nDas Wissen um das Vergangene leitet uns in die Zukunft.\nIn einer besonders intensiven Zeremonie begleite ich dich dabei\, Altes zu verabschieden und dich für die Wandlung zu öffnen. Gemeinsam gedenken wir in einer ruhigen und getragenen Atmosphäre unserer Ahnen und gehen gestärkt über die Schwelle in das Neue.\nEs sind keine Vorkenntnisse nötig. Willkommen sind alle\, die sich gerufen fühlen\, diese besondere Schwellenzeit im Jahreskreis bewusst zu erleben und in einer Gemeinschaft Gleichschwingender Kraft und Inspiration zu finden. \nDienstag\, 1. November 2025\nKreuzstraße 12 18:00 – 21:30 Uhr Energieausgleich 35 Euro\nNach deiner kostenpflichten Anmeldung: mail@eviglueck.de bekommst du eine Mitbringliste.
URL:https://eviglueck.de/veranstaltung/jahreskreisfest-samhain
LOCATION:Mariakirchen
CATEGORIES:Workshop
ORGANIZER;CN="Evi Gl%C3%BCck":MAILTO:mail@eviglueck.de
END:VEVENT
END:VCALENDAR