BEGIN:VCALENDAR
VERSION:2.0
PRODID:-//Schamanischer Seelenpfad - by Evi Glück - ECPv6.15.17//NONSGML v1.0//EN
CALSCALE:GREGORIAN
METHOD:PUBLISH
X-WR-CALNAME:Schamanischer Seelenpfad - by Evi Glück
X-ORIGINAL-URL:https://eviglueck.de
X-WR-CALDESC:Veranstaltungen für Schamanischer Seelenpfad - by Evi Glück
REFRESH-INTERVAL;VALUE=DURATION:PT1H
X-Robots-Tag:noindex
X-PUBLISHED-TTL:PT1H
BEGIN:VTIMEZONE
TZID:Europe/Berlin
BEGIN:DAYLIGHT
TZOFFSETFROM:+0100
TZOFFSETTO:+0200
TZNAME:CEST
DTSTART:20250330T010000
END:DAYLIGHT
BEGIN:STANDARD
TZOFFSETFROM:+0200
TZOFFSETTO:+0100
TZNAME:CET
DTSTART:20251026T010000
END:STANDARD
BEGIN:DAYLIGHT
TZOFFSETFROM:+0100
TZOFFSETTO:+0200
TZNAME:CEST
DTSTART:20260329T010000
END:DAYLIGHT
BEGIN:STANDARD
TZOFFSETFROM:+0200
TZOFFSETTO:+0100
TZNAME:CET
DTSTART:20261025T010000
END:STANDARD
BEGIN:DAYLIGHT
TZOFFSETFROM:+0100
TZOFFSETTO:+0200
TZNAME:CEST
DTSTART:20270328T010000
END:DAYLIGHT
BEGIN:STANDARD
TZOFFSETFROM:+0200
TZOFFSETTO:+0100
TZNAME:CET
DTSTART:20271031T010000
END:STANDARD
END:VTIMEZONE
BEGIN:VEVENT
DTSTART;VALUE=DATE:20260124
DTEND;VALUE=DATE:20260125
DTSTAMP:20260424T104542
CREATED:20241011T163158Z
LAST-MODIFIED:20251014T171409Z
UID:4344-1769212800-1769299199@eviglueck.de
SUMMARY:Aufstellungstag in der Gruppe am 24. Januar
DESCRIPTION:  \nKennst du das auch? Belastende Ereignisse\, unbewusste oder bewusste Verstrickungen in deinem Familiensystem oder wiederkehrende Ängste\, die dich auf deinem Weg ausbremsen? Du fühlst dich mutlos\, kraftlos und orientierungslos? Manchmal scheint es\, als würden sich bestimmte Situationen immer wiederholen\, ohne dass du vorankommst. \nDabei ist es so wichtig\, klar und bewusst zu sein\, um die nötige Veränderung in deinem Leben zu bewirken. Damit du Entscheidungen mit Freude treffen kannst – für dich und deine Familie. \nAufstellungen unterstützen dich dabei\, zur Ruhe zu kommen und neue Kraft zu schöpfen. Sie helfen dir\, bewusst zu handeln und den nächsten Schritt zu erkennen. Du lernst\, Krisen zu meistern und deine innere Ordnung wiederherzustellen. \nErlaube dir\, neue Klarheit zu gewinnen und wieder in deine Kraft zu kommen. Ich freue mich darauf\, dich auf diesem Weg zu begleiten. \nZeit: 9:00 Uhr bis ca. 17:00 Uhr\nOrt: Kreuzstraße 12\, 94424 Arnstorf – Mariakirchen \nHier findest du ein Anmeldeformular
URL:https://eviglueck.de/veranstaltung/aufstellungstag-in-der-gruppe-am-25-januar
LOCATION:Mariakirchen
CATEGORIES:Familienaufstellung in der Gruppe
ORGANIZER;CN="Evi Gl%C3%BCck":MAILTO:mail@eviglueck.de
END:VEVENT
BEGIN:VEVENT
DTSTART;TZID=Europe/Berlin:20260131T140000
DTEND;TZID=Europe/Berlin:20260131T180000
DTSTAMP:20260424T104542
CREATED:20251013T195607Z
LAST-MODIFIED:20251013T195607Z
UID:4736-1769868000-1769882400@eviglueck.de
SUMMARY:Workshop im Jahreskreis Imbolc
DESCRIPTION:Erlebe die kraftvolle Energie von Imbolc\, dem keltischen Jahreskreisfest des Lichts und der Erneuerung.Imbolc markiert den Übergang vom Winter zum Frühling – eine Zeit\, in der die Erde erwacht und neues Leben beginnt zu pulsieren. Dieses besondere Fest lädt dich ein\, Altes loszulassen\, dich von innerem Ballast zu befreien und neue Visionen für dein Jahr zu empfangen. \nIn meinem schamanischen Imbolc-Workshop verbinden wir uns mit der aufsteigenden Kraft des Lichts. Durch Rituale\, schamanische Reisen und Meditationen öffnen wir uns für Klarheit\, Inspiration und die Energie des Neubeginns. \nInhalte des Imbolc-Workshops:\nRitual der Reinigung und Erneuerung – Lass Altes los und öffne dich für die wachsende Lichtkraft.Schamanische Reise zur Jahresvision – Empfange Botschaften deiner Seele und klare Impulse für deinen Weg.Imbolc-Meditation und Erdverbindung – Spüre das Erwachen der Erde und deine eigene Lebendigkeit.Kreativritual: Das Symbol des Neubeginns – Gestalte dein persönliches Symbol für den neuen Jahreszyklus.Abschlusskreis und Segnung – Teile deine Erfahrungen\, stärke die Gemeinschaft und segne deine Visionen. \nOrganisatorisches:\nDatum: Freitag\, 31. Januar 2026Zeit: 14:00 – 18:00 UhrOrt: Mariakirchen\, Kreuzstraße 12Kosten: 40 Euro \nTauche ein in die magische Zeit des Neubeginns und spüre die heilende Kraft des Imbolc-Festes.Erlaube dir\, Altes hinter dir zu lassen und mit neuer Klarheit\, Vertrauen und Lebensfreude in den Frühling zu gehen. \nIch freue mich darauf\, dich beim Imbolc-Workshop zu begleiten und gemeinsam das Licht des Neubeginns zu entzünden. \n Anmeldung unter: Mail@eviglueck.de oder 08723 – 979 1903
URL:https://eviglueck.de/veranstaltung/workshop-im-jahreskreis-imbolc
LOCATION:Mariakirchen
CATEGORIES:Workshop
ORGANIZER;CN="Evi Gl%C3%BCck":MAILTO:mail@eviglueck.de
END:VEVENT
END:VCALENDAR